BEGIN:VCALENDAR
VERSION:2.0
PRODID:-//eventon.com NONSGML v1.0//EN
CALSCALE:GREGORIAN
METHOD:PUBLISH
BEGIN:VEVENT
UID:69ea0e4f31a33
DTSTAMP:20260423T121927Z
DTSTART:20261116T090000Z
DTEND:20261120T160000Z
LOCATION:
SUMMARY:Coordinación ATConf/7
DESCRIPTION:Reunión de Coordinación 7ma Conferencia Mundial de Transporte
  Aéreo (ATConf/7); 16 al 20 de noviembre; Sede OACI Montreal.\nhttps://cla
 c-lacac.org/events/coordinacion-atconf-7/
URL:https://clac-lacac.org/events/coordinacion-atconf-7/
END:VEVENT
END:VCALENDAR