BEGIN:VCALENDAR
VERSION:2.0
PRODID:-//eventon.com NONSGML v1.0//EN
CALSCALE:GREGORIAN
METHOD:PUBLISH
BEGIN:VEVENT
UID:69ea0e5b07b5a
DTSTAMP:20260423T121939Z
DTSTART:20260929T090000Z
DTEND:20260929T160000Z
LOCATION:
SUMMARY:Comité Ejecutivo CX
DESCRIPTION:Comité Ejecutivo (ampliado) /paralela a la reunión ACI/WORLD 
 y ACI-LAC; 29 de septiembre; Lima &#8211; Perú.\nhttps://clac-lacac.org/ev
 ents/comite-ejecutivo-cx/
URL:https://clac-lacac.org/events/comite-ejecutivo-cx/
END:VEVENT
END:VCALENDAR