BEGIN:VCALENDAR
VERSION:2.0
PRODID:-//eventon.com NONSGML v1.0//EN
CALSCALE:GREGORIAN
METHOD:PUBLISH
BEGIN:VEVENT
UID:69ea0e4f97d47
DTSTAMP:20260423T121927Z
DTSTART:20260722T090000Z
DTEND:20260723T160000Z
LOCATION:
SUMMARY:Comité Ejecutivo CIX
DESCRIPTION:Comité Ejecutivo (ampliado); 22 &#8211; 23 de julio; sede por 
 confirmar (Lima ó Santo Domingo).\nhttps://clac-lacac.org/events/comite-ej
 ecutivo-cix/
URL:https://clac-lacac.org/events/comite-ejecutivo-cix/
END:VEVENT
END:VCALENDAR