BEGIN:VCALENDAR
VERSION:2.0
PRODID:-//eventon.com NONSGML v1.0//EN
CALSCALE:GREGORIAN
METHOD:PUBLISH
BEGIN:VEVENT
UID:69ea246a8eaa4
DTSTAMP:20260423T135346Z
DTSTART:20260624T090000Z
DTEND:20260625T160000Z
LOCATION:
SUMMARY:GEPEJTA/62 - GRUGES
DESCRIPTION:GEPEJTA/62 &#8211; GRUGES; 24 &#8211; 25 de junio; sede (pendie
 nte).\nhttps://clac-lacac.org/events/gepejta-62-gruges/
URL:https://clac-lacac.org/events/gepejta-62-gruges/
END:VEVENT
END:VCALENDAR