BEGIN:VCALENDAR
VERSION:2.0
PRODID:-//eventon.com NONSGML v1.0//EN
CALSCALE:GREGORIAN
METHOD:PUBLISH
BEGIN:VEVENT
UID:69ea523b024fe
DTSTAMP:20260423T170915Z
DTSTART:20260428T090000Z
DTEND:20260429T160000Z
LOCATION:
SUMMARY:GEPEJTA/61 - GRUGES
DESCRIPTION:GEPEJTA/61 &#8211; GRUGES26-2; 28 y 29 de abril; Sede Lima &#82
 11; Perú.\nhttps://clac-lacac.org/events/gepejta-61-gruges/
URL:https://clac-lacac.org/events/gepejta-61-gruges/
END:VEVENT
END:VCALENDAR