BEGIN:VCALENDAR
VERSION:2.0
PRODID:-//eventon.com NONSGML v1.0//EN
CALSCALE:GREGORIAN
METHOD:PUBLISH
BEGIN:VEVENT
UID:69ea0e5a5faad
DTSTAMP:20260423T121938Z
DTSTART:20260406T090000Z
DTEND:20260406T160000Z
LOCATION:
SUMMARY:Comité Ejecutivo CVIII
DESCRIPTION:Comité Ejecutivo (ampliado); Santiago\,  Chile; 6 de abril de 
 2026.\nhttps://clac-lacac.org/events/comite-ejecutivo/
URL:https://clac-lacac.org/events/comite-ejecutivo/
END:VEVENT
END:VCALENDAR